BEGIN:VCALENDAR
VERSION:2.0
PRODID:-//jEvents 2.0 for Joomla//EN
CALSCALE:GREGORIAN
METHOD:PUBLISH
BEGIN:VEVENT
UID:ebe45ee476c25913ca14c97e9adff4a1
CATEGORIES:Mehrzweckhalle
CREATED:20260305T224635
SUMMARY:Herrnbalett
DESCRIPTION:
DTSTAMP:20260426T014414
DTSTART:20261106T170000
DTEND:20261106T190000
SEQUENCE:0
TRANSP:OPAQUE
END:VEVENT
END:VCALENDAR