BEGIN:VCALENDAR
VERSION:2.0
PRODID:-//jEvents 2.0 for Joomla//EN
CALSCALE:GREGORIAN
METHOD:PUBLISH
BEGIN:VEVENT
UID:da28a2b7500f3ec7b7b7fe0781b572ec
CATEGORIES:Mehrzweckhalle
CREATED:20260305T224218
SUMMARY:Hexen 
DESCRIPTION:
DTSTAMP:20260425T140709
DTSTART:20260526T170000
DTEND:20260526T190000
SEQUENCE:0
TRANSP:OPAQUE
END:VEVENT
END:VCALENDAR