BEGIN:VCALENDAR
VERSION:2.0
PRODID:-//jEvents 2.0 for Joomla//EN
CALSCALE:GREGORIAN
METHOD:PUBLISH
BEGIN:VEVENT
UID:0ee3c0b2479bd749a6c23ae01f08f7ca
CATEGORIES:Mehrzweckhalle
CREATED:20260220T120517
SUMMARY:AH Fußball 
DESCRIPTION:
DTSTAMP:20260425T211931
DTSTART:20270421T170000
DTEND:20270421T200000
SEQUENCE:0
TRANSP:OPAQUE
END:VEVENT
END:VCALENDAR