BEGIN:VCALENDAR
VERSION:2.0
PRODID:-//jEvents 2.0 for Joomla//EN
CALSCALE:GREGORIAN
METHOD:PUBLISH
BEGIN:VEVENT
UID:461093f158915187b84251fc2689a5a8
CATEGORIES:Mehrzweckhalle
CREATED:20251009T071328
SUMMARY:AH Fußball 
DESCRIPTION:
DTSTAMP:20260425T162814
DTSTART:20260325T180000
DTEND:20260325T210000
SEQUENCE:0
TRANSP:OPAQUE
END:VEVENT
END:VCALENDAR