BEGIN:VCALENDAR
VERSION:2.0
PRODID:-//jEvents 2.0 for Joomla//EN
CALSCALE:GREGORIAN
METHOD:PUBLISH
BEGIN:VEVENT
UID:796abfe2d1c74b0ee50a35ea68a99a3c
CATEGORIES:Mehrzweckhalle
CREATED:20251009T200729
SUMMARY:Tischtennis 
DESCRIPTION:
DTSTAMP:20260425T132050
DTSTART:20260409T183000
DTEND:20260409T210000
SEQUENCE:0
TRANSP:OPAQUE
END:VEVENT
END:VCALENDAR