BEGIN:VCALENDAR
VERSION:2.0
PRODID:-//jEvents 2.0 for Joomla//EN
CALSCALE:GREGORIAN
METHOD:PUBLISH
BEGIN:VEVENT
UID:796abfe2d1c74b0ee50a35ea68a99a3c
CATEGORIES:Mehrzweckhalle
CREATED:20251009T200729
SUMMARY:Tischtennis 
DESCRIPTION:
DTSTAMP:20260425T170006
DTSTART:20260219T193000
DTEND:20260219T220000
SEQUENCE:0
TRANSP:OPAQUE
END:VEVENT
END:VCALENDAR