BEGIN:VCALENDAR
VERSION:2.0
PRODID:-//jEvents 2.0 for Joomla//EN
CALSCALE:GREGORIAN
METHOD:PUBLISH
BEGIN:VEVENT
UID:c088f703387051afc5b955bb5f9be68f
CATEGORIES:Mehrzweckhalle
CREATED:20250317T185937
SUMMARY:Kinderturnen 
DESCRIPTION:
DTSTAMP:20260425T155601
DTSTART:20260409T133000
DTEND:20260409T160000
SEQUENCE:0
TRANSP:OPAQUE
END:VEVENT
END:VCALENDAR