BEGIN:VCALENDAR
VERSION:2.0
PRODID:-//jEvents 2.0 for Joomla//EN
CALSCALE:GREGORIAN
METHOD:PUBLISH
BEGIN:VEVENT
UID:10e7e7025a48e61604664d69f7fda624
CATEGORIES:Mehrzweckhalle
CREATED:20250216T152247
SUMMARY:Turnen 
DESCRIPTION:
DTSTAMP:20260425T153333
DTSTART:20260102T133000
DTEND:20260102T160000
SEQUENCE:0
TRANSP:OPAQUE
END:VEVENT
END:VCALENDAR