BEGIN:VCALENDAR
VERSION:2.0
PRODID:-//jEvents 2.0 for Joomla//EN
CALSCALE:GREGORIAN
METHOD:PUBLISH
BEGIN:VEVENT
UID:3f0200623e70a9cb53ba4a7f15c36de8
CATEGORIES:Mehrzweckhalle
CREATED:20260423T113558
SUMMARY:Mathiasbrudersch.
DESCRIPTION:
DTSTAMP:20260425T193602
DTSTART:20270422T060000
DTEND:20270422T090000
SEQUENCE:0
TRANSP:OPAQUE
END:VEVENT
END:VCALENDAR