BEGIN:VCALENDAR
VERSION:2.0
PRODID:-//jEvents 2.0 for Joomla//EN
CALSCALE:GREGORIAN
METHOD:PUBLISH
BEGIN:VEVENT
UID:5cfcdcf9678f357046e3fa01c21968f0
CATEGORIES:Mehrzweckhalle
CREATED:20260421T191926
SUMMARY:Kirmes 
DESCRIPTION:
DTSTAMP:20260425T181247
DTSTART:20260606T060000
DTEND:20260608T150000
SEQUENCE:0
TRANSP:OPAQUE
END:VEVENT
END:VCALENDAR