BEGIN:VCALENDAR
VERSION:2.0
PRODID:-//jEvents 2.0 for Joomla//EN
CALSCALE:GREGORIAN
METHOD:PUBLISH
BEGIN:VEVENT
UID:7dffd330ff4b06e7c8955cd9ddccf53f
CATEGORIES:Mehrzweckhalle
CREATED:20260421T145736
SUMMARY:DCC Kinderhelferfest 
DESCRIPTION:
DTSTAMP:20260425T213606
DTSTART;VALUE=DATE:20260808
DTEND;VALUE=DATE:20260809
SEQUENCE:0
TRANSP:OPAQUE
END:VEVENT
END:VCALENDAR