BEGIN:VCALENDAR
VERSION:2.0
PRODID:-//jEvents 2.0 for Joomla//EN
CALSCALE:GREGORIAN
METHOD:PUBLISH
BEGIN:VEVENT
UID:267a9ae7de8855a6589ffc14d4bde4e9
CATEGORIES:Mehrzweckhalle
CREATED:20260416T182553
SUMMARY:Kommunion 
DESCRIPTION:
CONTACT:Heege
DTSTAMP:20260425T225818
DTSTART;VALUE=DATE:20270417
DTEND;VALUE=DATE:20270418
SEQUENCE:0
TRANSP:OPAQUE
END:VEVENT
END:VCALENDAR