BEGIN:VCALENDAR
VERSION:2.0
PRODID:-//jEvents 2.0 for Joomla//EN
CALSCALE:GREGORIAN
METHOD:PUBLISH
BEGIN:VEVENT
UID:99321ba935c7eca9137c95d1b56ea647
CATEGORIES:Mehrzweckhalle
CREATED:20260411T093416
SUMMARY:Geburtstagsfeier 
DESCRIPTION:
DTSTAMP:20260425T213601
DTSTART;VALUE=DATE:20270109
DTEND;VALUE=DATE:20270110
SEQUENCE:0
TRANSP:OPAQUE
END:VEVENT
END:VCALENDAR