BEGIN:VCALENDAR
VERSION:2.0
PRODID:-//jEvents 2.0 for Joomla//EN
CALSCALE:GREGORIAN
METHOD:PUBLISH
BEGIN:VEVENT
UID:eac9ae87820172d964a3dcd501f9d42d
CATEGORIES:Schutzhütte
CREATED:20260408T111754
SUMMARY:Geburtstag 
LOCATION:Schutzhütte 
DESCRIPTION:
DTSTAMP:20260425T160531
DTSTART;VALUE=DATE:20260516
DTEND;VALUE=DATE:20260517
SEQUENCE:0
TRANSP:OPAQUE
END:VEVENT
END:VCALENDAR