BEGIN:VCALENDAR
VERSION:2.0
PRODID:-//jEvents 2.0 for Joomla//EN
CALSCALE:GREGORIAN
METHOD:PUBLISH
BEGIN:VEVENT
UID:693872953828be5e54cbfcccf7e26e88
CATEGORIES:Schutzhütte
CREATED:20260408T111654
SUMMARY:Geburtstag 
LOCATION:Schutzhütte 
DESCRIPTION:
DTSTAMP:20260425T143542
DTSTART;VALUE=DATE:20260418
DTEND;VALUE=DATE:20260419
SEQUENCE:0
TRANSP:OPAQUE
END:VEVENT
END:VCALENDAR