BEGIN:VCALENDAR
VERSION:2.0
PRODID:-//jEvents 2.0 for Joomla//EN
CALSCALE:GREGORIAN
METHOD:PUBLISH
BEGIN:VEVENT
UID:d94b9c493f7e2be8c972b7362bf69a92
CATEGORIES:Mehrzweckhalle
CREATED:20260402T162902
SUMMARY:JHV Möhnen 
DESCRIPTION:
DTSTAMP:20260425T123452
DTSTART:20260424T170000
DTEND:20260423T220000
SEQUENCE:0
TRANSP:OPAQUE
END:VEVENT
END:VCALENDAR