BEGIN:VCALENDAR
VERSION:2.0
PRODID:-//jEvents 2.0 for Joomla//EN
CALSCALE:GREGORIAN
METHOD:PUBLISH
BEGIN:VEVENT
UID:a94ee07e46a189a52472f46205dca3ed
CATEGORIES:Mehrzweckhalle
CREATED:20260401T131359
SUMMARY:JHV Jagdgenossenschaft
DESCRIPTION:
DTSTAMP:20260425T123353
DTSTART:20260424T060000
SEQUENCE:0
TRANSP:OPAQUE
END:VEVENT
END:VCALENDAR