BEGIN:VCALENDAR
VERSION:2.0
PRODID:-//jEvents 2.0 for Joomla//EN
CALSCALE:GREGORIAN
METHOD:PUBLISH
BEGIN:VEVENT
UID:3c7768b5e3d87adb92b1185d3ca63db8
CATEGORIES:Mehrzweckhalle
CREATED:20260320T093923
SUMMARY:Fußball 
DESCRIPTION:
DTSTAMP:20260425T193604
DTSTART:20260625T180000
DTEND:20260624T220000
SEQUENCE:0
TRANSP:OPAQUE
END:VEVENT
END:VCALENDAR