BEGIN:VCALENDAR
VERSION:2.0
PRODID:-//jEvents 2.0 for Joomla//EN
CALSCALE:GREGORIAN
METHOD:PUBLISH
BEGIN:VEVENT
UID:396d238d7c38696fc8bfd8ef243c8ccf
CATEGORIES:Mehrzweckhalle
CREATED:20260319T174651
SUMMARY:Fußball 
DESCRIPTION:
DTSTAMP:20260425T205930
DTSTART:20260620T180000
DTEND:20260619T220000
SEQUENCE:0
TRANSP:OPAQUE
END:VEVENT
END:VCALENDAR