BEGIN:VCALENDAR
VERSION:2.0
PRODID:-//jEvents 2.0 for Joomla//EN
CALSCALE:GREGORIAN
METHOD:PUBLISH
BEGIN:VEVENT
UID:0c573cc54535b8ed337888a54156972d
CATEGORIES:Mehrzweckhalle
CREATED:20260319T174517
SUMMARY:Fußball 
DESCRIPTION:
DTSTAMP:20260425T193603
DTSTART:20260614T170000
DTEND:20260614T200000
SEQUENCE:0
TRANSP:OPAQUE
END:VEVENT
END:VCALENDAR