BEGIN:VCALENDAR
VERSION:2.0
PRODID:-//jEvents 2.0 for Joomla//EN
CALSCALE:GREGORIAN
METHOD:PUBLISH
BEGIN:VEVENT
UID:e4c2c991998ea8d0e8eeee4892e6db8e
CATEGORIES:Mehrzweckhalle
CREATED:20260318T174508
SUMMARY:Kindergeburtstag 
DESCRIPTION:
CONTACT:Stenshorn Andre
DTSTAMP:20260425T193605
DTSTART:20261115T100000
DTEND:20261115T190000
SEQUENCE:0
TRANSP:OPAQUE
END:VEVENT
END:VCALENDAR