BEGIN:VCALENDAR
VERSION:2.0
PRODID:-//jEvents 2.0 for Joomla//EN
CALSCALE:GREGORIAN
METHOD:PUBLISH
BEGIN:VEVENT
UID:ef99c8433c7faebd5a1af8c514ff771c
CATEGORIES:Schutzhütte
CREATED:20260306T165429
SUMMARY:Geburtstag 
LOCATION:Schutzhütte 
DESCRIPTION:
DTSTAMP:20260426T022645
DTSTART;VALUE=DATE:20260919
DTEND;VALUE=DATE:20260920
SEQUENCE:0
TRANSP:OPAQUE
END:VEVENT
END:VCALENDAR