BEGIN:VCALENDAR
VERSION:2.0
PRODID:-//jEvents 2.0 for Joomla//EN
CALSCALE:GREGORIAN
METHOD:PUBLISH
BEGIN:VEVENT
UID:2839b421021076acb9a4b8756b42ae9d
CATEGORIES:Schutzhütte
CREATED:20260306T165220
SUMMARY:Geburtstag 
LOCATION:Schutzhütte 
DESCRIPTION:
DTSTAMP:20260426T025933
DTSTART;VALUE=DATE:20260627
DTEND;VALUE=DATE:20260629
SEQUENCE:0
TRANSP:OPAQUE
END:VEVENT
END:VCALENDAR