BEGIN:VCALENDAR
VERSION:2.0
PRODID:-//jEvents 2.0 for Joomla//EN
CALSCALE:GREGORIAN
METHOD:PUBLISH
BEGIN:VEVENT
UID:57d4c0c095d0a22323bcbbf2748f9de6
CATEGORIES:Schutzhütte
CREATED:20260306T165116
SUMMARY:Geburtstag 
LOCATION:Schutzhütte 
DESCRIPTION:
DTSTAMP:20260426T011811
DTSTART;VALUE=DATE:20260626
DTEND;VALUE=DATE:20260627
SEQUENCE:0
TRANSP:OPAQUE
END:VEVENT
END:VCALENDAR