BEGIN:VCALENDAR
VERSION:2.0
PRODID:-//jEvents 2.0 for Joomla//EN
CALSCALE:GREGORIAN
METHOD:PUBLISH
BEGIN:VEVENT
UID:7aff77f76a057e82c2caec01bff1c90e
CATEGORIES:Schutzhütte
CREATED:20260306T164809
SUMMARY:Geburtstag 
LOCATION:Schutzhütte 
DESCRIPTION:
DTSTAMP:20260425T232633
DTSTART;VALUE=DATE:20260321
DTEND;VALUE=DATE:20260322
SEQUENCE:0
TRANSP:OPAQUE
END:VEVENT
END:VCALENDAR