BEGIN:VCALENDAR
VERSION:2.0
PRODID:-//jEvents 2.0 for Joomla//EN
CALSCALE:GREGORIAN
METHOD:PUBLISH
BEGIN:VEVENT
UID:ebe45ee476c25913ca14c97e9adff4a1
CATEGORIES:Mehrzweckhalle
CREATED:19700101T010000
SUMMARY:Herrnbalett
DESCRIPTION:
DTSTAMP:20260426T021301
DTSTART:20260807T160000
DTEND:20260807T180000
SEQUENCE:0
RRULE:FREQ=WEEKLY;COUNT=52;INTERVAL=1;BYDAY=FR
TRANSP:OPAQUE
END:VEVENT
END:VCALENDAR