BEGIN:VCALENDAR
VERSION:2.0
PRODID:-//jEvents 2.0 for Joomla//EN
CALSCALE:GREGORIAN
METHOD:PUBLISH
BEGIN:VEVENT
UID:da28a2b7500f3ec7b7b7fe0781b572ec
CATEGORIES:Mehrzweckhalle
CREATED:19700101T010000
SUMMARY:Hexen 
DESCRIPTION:
DTSTAMP:20260425T160739
DTSTART:20260317T180000
DTEND:20260317T200000
SEQUENCE:0
RRULE:FREQ=WEEKLY;COUNT=52;INTERVAL=1;BYDAY=TU
TRANSP:OPAQUE
END:VEVENT
END:VCALENDAR