BEGIN:VCALENDAR
VERSION:2.0
PRODID:-//jEvents 2.0 for Joomla//EN
CALSCALE:GREGORIAN
METHOD:PUBLISH
BEGIN:VEVENT
UID:60c03da40da9c5615a958b504f9cccc4
CATEGORIES:Mehrzweckhalle
CREATED:20260304T072226
SUMMARY:Theaterverein 
DESCRIPTION:
DTSTAMP:20260425T201721
DTSTART:20260905T060000
DTEND:20260920T150000
SEQUENCE:0
TRANSP:OPAQUE
END:VEVENT
END:VCALENDAR