BEGIN:VCALENDAR
VERSION:2.0
PRODID:-//jEvents 2.0 for Joomla//EN
CALSCALE:GREGORIAN
METHOD:PUBLISH
BEGIN:VEVENT
UID:40e8e0c30d71b8e95740830a250ea2eb
CATEGORIES:Mehrzweckhalle
CREATED:20260224T225740
SUMMARY:Jhv Junggesellen 
DESCRIPTION:
CONTACT:Simon Dietz 
DTSTAMP:20260425T211130
DTSTART;VALUE=DATE:20260411
DTEND;VALUE=DATE:20260412
SEQUENCE:0
TRANSP:OPAQUE
END:VEVENT
END:VCALENDAR