BEGIN:VCALENDAR
VERSION:2.0
PRODID:-//jEvents 2.0 for Joomla//EN
CALSCALE:GREGORIAN
METHOD:PUBLISH
BEGIN:VEVENT
UID:0ee3c0b2479bd749a6c23ae01f08f7ca
CATEGORIES:Mehrzweckhalle
CREATED:19700101T010000
SUMMARY:AH Fußball 
DESCRIPTION:
DTSTAMP:20260426T002928
DTSTART:20260819T170000
DTEND:20260819T200000
SEQUENCE:0
RRULE:FREQ=WEEKLY;UNTIL=20270429T000000Z;INTERVAL=1;BYDAY=WE
TRANSP:OPAQUE
END:VEVENT
END:VCALENDAR