BEGIN:VCALENDAR
VERSION:2.0
PRODID:-//jEvents 2.0 for Joomla//EN
CALSCALE:GREGORIAN
METHOD:PUBLISH
BEGIN:VEVENT
UID:461093f158915187b84251fc2689a5a8
CATEGORIES:Mehrzweckhalle
CREATED:19700101T010000
SUMMARY:AH Fußball 
DESCRIPTION:
DTSTAMP:20260425T150339
DTSTART:20251022T170000
DTEND:20251022T200000
SEQUENCE:0
RRULE:FREQ=WEEKLY;UNTIL=20260501T000000Z;INTERVAL=1;BYDAY=WE,TH
TRANSP:OPAQUE
END:VEVENT
END:VCALENDAR