BEGIN:VCALENDAR
VERSION:2.0
PRODID:-//jEvents 2.0 for Joomla//EN
CALSCALE:GREGORIAN
METHOD:PUBLISH
BEGIN:VEVENT
UID:9ecb1d424f06c02daa89df07d2615ae9
CATEGORIES:Mehrzweckhalle
CREATED:20260211T111009
SUMMARY:Geburtstagsfeier 
DESCRIPTION:
CONTACT:Glaubel 
DTSTAMP:20260425T221636
DTSTART;VALUE=DATE:20260524
DTEND;VALUE=DATE:20260525
SEQUENCE:0
TRANSP:OPAQUE
END:VEVENT
END:VCALENDAR