BEGIN:VCALENDAR
VERSION:2.0
PRODID:-//jEvents 2.0 for Joomla//EN
CALSCALE:GREGORIAN
METHOD:PUBLISH
BEGIN:VEVENT
UID:cf8657d85005663a98862e684fe81d9c
CATEGORIES:Schutzhütte
CREATED:20260210T132757
SUMMARY:Geburtstag 
LOCATION:Schutzhütte 
DESCRIPTION:
DTSTAMP:20260426T010030
DTSTART;VALUE=DATE:20260228
DTEND;VALUE=DATE:20260301
SEQUENCE:0
TRANSP:OPAQUE
END:VEVENT
END:VCALENDAR