BEGIN:VCALENDAR
VERSION:2.0
PRODID:-//jEvents 2.0 for Joomla//EN
CALSCALE:GREGORIAN
METHOD:PUBLISH
BEGIN:VEVENT
UID:1a935e4d56f3bc030986b24793158223
CATEGORIES:Mehrzweckhalle
CREATED:20260203T200751
SUMMARY:Geburtstagsfeier 
DESCRIPTION:
CONTACT:Elena Otto
DTSTAMP:20260426T013019
DTSTART;VALUE=DATE:20260221
DTEND;VALUE=DATE:20260222
SEQUENCE:0
TRANSP:OPAQUE
END:VEVENT
END:VCALENDAR