BEGIN:VCALENDAR
VERSION:2.0
PRODID:-//jEvents 2.0 for Joomla//EN
CALSCALE:GREGORIAN
METHOD:PUBLISH
BEGIN:VEVENT
UID:bbd2fbc00a545e11881a0ce5b88c7f50
CATEGORIES:Mehrzweckhalle
CREATED:20260129T183127
SUMMARY:Fastnacht 
DESCRIPTION:
DTSTAMP:20260426T000832
DTSTART:20260214T070000
DTEND;VALUE=DATE:20260217
SEQUENCE:0
TRANSP:OPAQUE
END:VEVENT
END:VCALENDAR