BEGIN:VCALENDAR
VERSION:2.0
PRODID:-//jEvents 2.0 for Joomla//EN
CALSCALE:GREGORIAN
METHOD:PUBLISH
BEGIN:VEVENT
UID:08934dac4286b3f758cc5a68ccb40160
CATEGORIES:Mehrzweckhalle
CREATED:20260129T182857
SUMMARY:Kappensitzung
DESCRIPTION:
DTSTAMP:20260425T232702
DTSTART;VALUE=DATE:20260207
DTEND;VALUE=DATE:20260209
SEQUENCE:0
TRANSP:OPAQUE
END:VEVENT
END:VCALENDAR