BEGIN:VCALENDAR
VERSION:2.0
PRODID:-//jEvents 2.0 for Joomla//EN
CALSCALE:GREGORIAN
METHOD:PUBLISH
BEGIN:VEVENT
UID:885f26f6ba391c1427045959e8eacd86
CATEGORIES:Schutzhütte
CREATED:20260124T184950
SUMMARY:Geburtstag 
LOCATION:Schutzhütte 
DESCRIPTION:
DTSTAMP:20260426T035720
DTSTART;VALUE=DATE:20260926
DTEND;VALUE=DATE:20260928
SEQUENCE:0
TRANSP:OPAQUE
END:VEVENT
END:VCALENDAR