BEGIN:VCALENDAR
VERSION:2.0
PRODID:-//jEvents 2.0 for Joomla//EN
CALSCALE:GREGORIAN
METHOD:PUBLISH
BEGIN:VEVENT
UID:5e6c1d09dd389e755553876b2a8b88a3
CATEGORIES:Schutzhütte
CREATED:20260124T184742
SUMMARY:Treffen
LOCATION:Schutzhütte 
DESCRIPTION:
DTSTAMP:20260426T030338
DTSTART;VALUE=DATE:20260821
DTEND;VALUE=DATE:20260824
SEQUENCE:0
TRANSP:OPAQUE
END:VEVENT
END:VCALENDAR