BEGIN:VCALENDAR
VERSION:2.0
PRODID:-//jEvents 2.0 for Joomla//EN
CALSCALE:GREGORIAN
METHOD:PUBLISH
BEGIN:VEVENT
UID:0f1c5d984abe99d04bbfbd57e95aa759
CATEGORIES:Schutzhütte
CREATED:20260124T184637
SUMMARY:Geburtstag 
LOCATION:Schutzhütte 
DESCRIPTION:
DTSTAMP:20260426T053327
DTSTART;VALUE=DATE:20260725
DTEND;VALUE=DATE:20260727
SEQUENCE:0
TRANSP:OPAQUE
END:VEVENT
END:VCALENDAR