BEGIN:VCALENDAR
VERSION:2.0
PRODID:-//jEvents 2.0 for Joomla//EN
CALSCALE:GREGORIAN
METHOD:PUBLISH
BEGIN:VEVENT
UID:47c830fb914b47ab2daf3ef97d2ecd53
CATEGORIES:Schutzhütte
CREATED:20260124T184302
SUMMARY:Klassenfeier
LOCATION:Schutzhütte 
DESCRIPTION:
DTSTAMP:20260425T173955
DTSTART;VALUE=DATE:20260625
DTEND;VALUE=DATE:20260626
SEQUENCE:0
TRANSP:OPAQUE
END:VEVENT
END:VCALENDAR