BEGIN:VCALENDAR
VERSION:2.0
PRODID:-//jEvents 2.0 for Joomla//EN
CALSCALE:GREGORIAN
METHOD:PUBLISH
BEGIN:VEVENT
UID:e3b3083bd69dd1669035b0c907379f48
CATEGORIES:Schutzhütte
CREATED:20260124T183715
SUMMARY:Geburtstag 
LOCATION:Schutzhütte 
DESCRIPTION:
DTSTAMP:20260426T013004
DTSTART;VALUE=DATE:20260604
DTEND;VALUE=DATE:20260607
SEQUENCE:0
TRANSP:OPAQUE
END:VEVENT
END:VCALENDAR