BEGIN:VCALENDAR
VERSION:2.0
PRODID:-//jEvents 2.0 for Joomla//EN
CALSCALE:GREGORIAN
METHOD:PUBLISH
BEGIN:VEVENT
UID:299eb806b403d003e67bb6373202e7f5
CATEGORIES:Schutzhütte
CREATED:20260124T183431
SUMMARY:Geburtstag 
LOCATION:Schutzhütte 
DESCRIPTION:
DTSTAMP:20260426T022555
DTSTART;VALUE=DATE:20260530
DTEND;VALUE=DATE:20260531
SEQUENCE:0
TRANSP:OPAQUE
END:VEVENT
END:VCALENDAR