BEGIN:VCALENDAR
VERSION:2.0
PRODID:-//jEvents 2.0 for Joomla//EN
CALSCALE:GREGORIAN
METHOD:PUBLISH
BEGIN:VEVENT
UID:5f993d257ded9455f918ec6d20afae79
CATEGORIES:Schutzhütte
CREATED:20260124T183336
SUMMARY:Treffen
LOCATION:Schutzhütte 
DESCRIPTION:
DTSTAMP:20260425T145136
DTSTART;VALUE=DATE:20260424
DTEND;VALUE=DATE:20260427
SEQUENCE:0
TRANSP:OPAQUE
END:VEVENT
END:VCALENDAR