BEGIN:VCALENDAR
VERSION:2.0
PRODID:-//jEvents 2.0 for Joomla//EN
CALSCALE:GREGORIAN
METHOD:PUBLISH
BEGIN:VEVENT
UID:cae382047acc20ff8296e31a27b1ebdc
CATEGORIES:Schutzhütte
CREATED:20260124T183025
SUMMARY:Treffen
LOCATION:Schutzhütte 
DESCRIPTION:
DTSTAMP:20260426T022550
DTSTART;VALUE=DATE:20260206
DTEND;VALUE=DATE:20260209
SEQUENCE:0
TRANSP:OPAQUE
END:VEVENT
END:VCALENDAR