BEGIN:VCALENDAR
VERSION:2.0
PRODID:-//jEvents 2.0 for Joomla//EN
CALSCALE:GREGORIAN
METHOD:PUBLISH
BEGIN:VEVENT
UID:7682f3752060c63b8ba7bdc4f2843e5a
CATEGORIES:Mehrzweckhalle
CREATED:20260120T181002
SUMMARY:Kindergeburtstag 
DESCRIPTION:
CONTACT:Ch. Schmitz 
DTSTAMP:20260425T211125
DTSTART;VALUE=DATE:20260307
DTEND;VALUE=DATE:20260308
SEQUENCE:0
TRANSP:OPAQUE
END:VEVENT
END:VCALENDAR