BEGIN:VCALENDAR
VERSION:2.0
PRODID:-//jEvents 2.0 for Joomla//EN
CALSCALE:GREGORIAN
METHOD:PUBLISH
BEGIN:VEVENT
UID:111dee8036a5c526248dedf1cd536679
CATEGORIES:Mehrzweckhalle
CREATED:20251218T211727
SUMMARY:Familienfeier 
DESCRIPTION:
CONTACT:Corina Gande
DTSTAMP:20260426T053249
DTSTART;VALUE=DATE:20260328
DTEND;VALUE=DATE:20260329
SEQUENCE:0
TRANSP:OPAQUE
END:VEVENT
END:VCALENDAR