BEGIN:VCALENDAR
VERSION:2.0
PRODID:-//jEvents 2.0 for Joomla//EN
CALSCALE:GREGORIAN
METHOD:PUBLISH
BEGIN:VEVENT
UID:6ef6f6d48d70182e0ff49d8414693776
CATEGORIES:Schutzhütte
CREATED:20251128T154513
SUMMARY:Eifelverein Winterwanderung 
LOCATION:Schutzhütte 
DESCRIPTION:
DTSTAMP:20260425T180744
DTSTART;VALUE=DATE:20260308
DTEND;VALUE=DATE:20260309
SEQUENCE:0
TRANSP:OPAQUE
END:VEVENT
END:VCALENDAR