BEGIN:VCALENDAR
VERSION:2.0
PRODID:-//jEvents 2.0 for Joomla//EN
CALSCALE:GREGORIAN
METHOD:PUBLISH
BEGIN:VEVENT
UID:042a84f705ea1844ac9dcb95d463ca0f
CATEGORIES:Mehrzweckhalle
CREATED:20251123T182200
SUMMARY:Geburtstagsfeier 
LOCATION:Urmesbach
DESCRIPTION:
CONTACT:M.Lenz 
DTSTAMP:20260425T131621
DTSTART;VALUE=DATE:20260425
DTEND;VALUE=DATE:20260426
SEQUENCE:0
TRANSP:OPAQUE
END:VEVENT
END:VCALENDAR