BEGIN:VCALENDAR
VERSION:2.0
PRODID:-//jEvents 2.0 for Joomla//EN
CALSCALE:GREGORIAN
METHOD:PUBLISH
BEGIN:VEVENT
UID:73e1264c7ad7edfb9917a46e26472129
CATEGORIES:Mehrzweckhalle
CREATED:20251114T092932
SUMMARY:Geburtstagsfeier 
DESCRIPTION:
CONTACT:Elisabeth Müller 
DTSTAMP:20260426T024830
DTSTART;VALUE=DATE:20260228
DTEND;VALUE=DATE:20260301
SEQUENCE:0
TRANSP:OPAQUE
END:VEVENT
END:VCALENDAR