BEGIN:VCALENDAR
VERSION:2.0
PRODID:-//jEvents 2.0 for Joomla//EN
CALSCALE:GREGORIAN
METHOD:PUBLISH
BEGIN:VEVENT
UID:796abfe2d1c74b0ee50a35ea68a99a3c
CATEGORIES:Mehrzweckhalle
CREATED:19700101T010000
SUMMARY:Tischtennis 
DESCRIPTION:
DTSTAMP:20260425T160522
DTSTART:20251009T183000
DTEND:20251009T210000
SEQUENCE:0
RRULE:FREQ=WEEKLY;UNTIL=20271126T000000Z;INTERVAL=1;BYDAY=TH
TRANSP:OPAQUE
END:VEVENT
END:VCALENDAR